BEGIN:VCALENDAR
VERSION:2.0
PRODID:-//A cheval Rando libre - ECPv6.15.20//NONSGML v1.0//EN
CALSCALE:GREGORIAN
METHOD:PUBLISH
X-WR-CALNAME:A cheval Rando libre
X-ORIGINAL-URL:https://www.achevalrandolibre.fr
X-WR-CALDESC:Évènements pour A cheval Rando libre
REFRESH-INTERVAL;VALUE=DURATION:PT1H
X-Robots-Tag:noindex
X-PUBLISHED-TTL:PT1H
BEGIN:VTIMEZONE
TZID:Europe/Paris
BEGIN:DAYLIGHT
TZOFFSETFROM:+0100
TZOFFSETTO:+0200
TZNAME:CEST
DTSTART:20250330T010000
END:DAYLIGHT
BEGIN:STANDARD
TZOFFSETFROM:+0200
TZOFFSETTO:+0100
TZNAME:CET
DTSTART:20251026T010000
END:STANDARD
BEGIN:DAYLIGHT
TZOFFSETFROM:+0100
TZOFFSETTO:+0200
TZNAME:CEST
DTSTART:20260329T010000
END:DAYLIGHT
BEGIN:STANDARD
TZOFFSETFROM:+0200
TZOFFSETTO:+0100
TZNAME:CET
DTSTART:20261025T010000
END:STANDARD
BEGIN:DAYLIGHT
TZOFFSETFROM:+0100
TZOFFSETTO:+0200
TZNAME:CEST
DTSTART:20270328T010000
END:DAYLIGHT
BEGIN:STANDARD
TZOFFSETFROM:+0200
TZOFFSETTO:+0100
TZNAME:CET
DTSTART:20271031T010000
END:STANDARD
END:VTIMEZONE
BEGIN:VEVENT
DTSTART;VALUE=DATE:20260308
DTEND;VALUE=DATE:20260309
DTSTAMP:20260420T085154
CREATED:20260219T111835Z
LAST-MODIFIED:20260402T115441Z
UID:14859-1772928000-1773014399@www.achevalrandolibre.fr
SUMMARY:Journée Galopade
DESCRIPTION:Retour au calendrier des sorties\n        \n    					\n				\n		\n					\n				\n							\n	\n			Pic-nic couchant\n		\n				\n								\n								Sortie de nuit\n					 \n				\n				\n					\n				\n				\n				\n				\n				\n							\n	\n			Déroulé de la sortie\n		\n							\n	\n			Déroulé de la sortie\n		\n								\n								Une incursion dans l’univers sensoriel des chevaux.Des sensations inoubliables;  tout s’inverse. Le cheval (proie) possède une bonne vision nocturne.Le cavalier privé de vision doit lui faire confiance. Le cavalier ressent le sol et perçoit l’environnement à travers le cheval.Les rênes deviennent des cannes d’aveugle…Dans la forêt on éteint les lampes frontales. Galops dans le noir de la forêt sur chemins reconnus la journée.Galopades en plaine au clair de lune.\n					 \n							\n	\n			🕗 Organisation\n		\n								\n								Rendez vous en fin d’après midi 2h30 avant le coucher du soleil. 3 heures en selle.4h30 en tout.\n					 \n				\n				\n							\n	\n			🏷️ Tarifs\n		\n								\n								Occasionnel 74\,00€ / Adhérent 66\,00€\n					 \n				\n				\n							\n	\n			⚠️ Équipement\n		\n								\n								• Prévoir une lampe frontale • Gilet jaune\n					 \n				\n				\n							\n	\n			Réserver une date\n		\n								\n								On vous envoie un sms pour confirmation\n					 \n					    	            \n            Réserver ici\n        \n    				\n				\n							\n	\n			Équipements\, quelques rappels :\n		\n				\n				\n				\n				\n							\n			\n						\n		\n						\n				\n				\n				\n								\n								• Équipez-vous d’une gourde d’eau\, surtout en été !\n					 \n				\n				\n				\n				\n				\n				\n							\n			\n						\n		\n						\n				\n				\n				\n								\n								Équipements\n					 \n								\n								• Prévoir une lampe frontale • Gilet jaune• Pantalon d'équitation ou jean stretch confortable• Chaussures de randonnées (pas de bottes d'équitation)• On vous prête des mini-chaps\n					 \n				\n				\n				\n				\n				\n				\n							\n			\n						\n		\n						\n				\n				\n				\n								\n								Selon la météo :\n					 \n								\n								• Pensez à bien vous habiller chaudement en hiver !\n• Un imperméable s’il pleut\n• Un petit sac pour emballer son téléphone pour le garder au sec
URL:https://www.achevalrandolibre.fr/event/journee-galopade/
CATEGORIES:Sorties
ATTACH;FMTTYPE=image/png:https://www.achevalrandolibre.fr/wp-content/uploads/2026/02/Galop.png
END:VEVENT
BEGIN:VEVENT
DTSTART;VALUE=DATE:20260317
DTEND;VALUE=DATE:20260318
DTSTAMP:20260420T085155
CREATED:20260219T115722Z
LAST-MODIFIED:20260402T115435Z
UID:14883-1773705600-1773791999@www.achevalrandolibre.fr
SUMMARY:Mardi gras
DESCRIPTION:Retour au calendrier des sorties\n        \n    					\n				\n		\n					\n				\n							\n	\n			Pic-nic couchant\n		\n				\n								\n								Sortie de nuit\n					 \n				\n				\n					\n				\n				\n				\n				\n				\n							\n	\n			Déroulé de la sortie\n		\n							\n	\n			Déroulé de la sortie\n		\n								\n								Une incursion dans l’univers sensoriel des chevaux.Des sensations inoubliables;  tout s’inverse. Le cheval (proie) possède une bonne vision nocturne.Le cavalier privé de vision doit lui faire confiance. Le cavalier ressent le sol et perçoit l’environnement à travers le cheval.Les rênes deviennent des cannes d’aveugle…Dans la forêt on éteint les lampes frontales. Galops dans le noir de la forêt sur chemins reconnus la journée.Galopades en plaine au clair de lune.\n					 \n							\n	\n			🕗 Organisation\n		\n								\n								Rendez vous en fin d’après midi 2h30 avant le coucher du soleil. 3 heures en selle.4h30 en tout.\n					 \n				\n				\n							\n	\n			🏷️ Tarifs\n		\n								\n								Occasionnel 74\,00€ / Adhérent 66\,00€\n					 \n				\n				\n							\n	\n			⚠️ Équipement\n		\n								\n								• Prévoir une lampe frontale • Gilet jaune\n					 \n				\n				\n							\n	\n			Réserver une date\n		\n								\n								On vous envoie un sms pour confirmation\n					 \n					    	            \n            Réserver ici\n        \n    				\n				\n							\n	\n			Équipements\, quelques rappels :\n		\n				\n				\n				\n				\n							\n			\n						\n		\n						\n				\n				\n				\n								\n								• Équipez-vous d’une gourde d’eau\, surtout en été !\n					 \n				\n				\n				\n				\n				\n				\n							\n			\n						\n		\n						\n				\n				\n				\n								\n								Équipements\n					 \n								\n								• Prévoir une lampe frontale • Gilet jaune• Pantalon d'équitation ou jean stretch confortable• Chaussures de randonnées (pas de bottes d'équitation)• On vous prête des mini-chaps\n					 \n				\n				\n				\n				\n				\n				\n							\n			\n						\n		\n						\n				\n				\n				\n								\n								Selon la météo :\n					 \n								\n								• Pensez à bien vous habiller chaudement en hiver !\n• Un imperméable s’il pleut\n• Un petit sac pour emballer son téléphone pour le garder au sec
URL:https://www.achevalrandolibre.fr/event/mardi-gras/
CATEGORIES:Sorties
ATTACH;FMTTYPE=image/png:https://www.achevalrandolibre.fr/wp-content/uploads/2026/02/Vignette-carnaval.png
END:VEVENT
END:VCALENDAR