BEGIN:VCALENDAR
VERSION:2.0
PRODID:-//A cheval Rando libre - ECPv6.15.20//NONSGML v1.0//EN
CALSCALE:GREGORIAN
METHOD:PUBLISH
X-ORIGINAL-URL:https://www.achevalrandolibre.fr
X-WR-CALDESC:Évènements pour A cheval Rando libre
REFRESH-INTERVAL;VALUE=DURATION:PT1H
X-Robots-Tag:noindex
X-PUBLISHED-TTL:PT1H
BEGIN:VTIMEZONE
TZID:Europe/Paris
BEGIN:DAYLIGHT
TZOFFSETFROM:+0100
TZOFFSETTO:+0200
TZNAME:CEST
DTSTART:20250330T010000
END:DAYLIGHT
BEGIN:STANDARD
TZOFFSETFROM:+0200
TZOFFSETTO:+0100
TZNAME:CET
DTSTART:20251026T010000
END:STANDARD
BEGIN:DAYLIGHT
TZOFFSETFROM:+0100
TZOFFSETTO:+0200
TZNAME:CEST
DTSTART:20260329T010000
END:DAYLIGHT
BEGIN:STANDARD
TZOFFSETFROM:+0200
TZOFFSETTO:+0100
TZNAME:CET
DTSTART:20261025T010000
END:STANDARD
BEGIN:DAYLIGHT
TZOFFSETFROM:+0100
TZOFFSETTO:+0200
TZNAME:CEST
DTSTART:20270328T010000
END:DAYLIGHT
BEGIN:STANDARD
TZOFFSETFROM:+0200
TZOFFSETTO:+0100
TZNAME:CET
DTSTART:20271031T010000
END:STANDARD
END:VTIMEZONE
BEGIN:VEVENT
DTSTART;VALUE=DATE:20260201
DTEND;VALUE=DATE:20260202
DTSTAMP:20260422T110441
CREATED:20260219T095812Z
LAST-MODIFIED:20260402T115456Z
UID:14835-1769904000-1769990399@www.achevalrandolibre.fr
SUMMARY:Chandeleur
DESCRIPTION:Retour au calendrier des sorties\n        \n    					\n				\n		\n					\n				\n							\n	\n			Pic-nic couchant\n		\n				\n								\n								Sortie de nuit\n					 \n				\n				\n					\n				\n				\n				\n				\n				\n							\n	\n			Déroulé de la sortie\n		\n							\n	\n			Déroulé de la sortie\n		\n								\n								Une incursion dans l’univers sensoriel des chevaux.Des sensations inoubliables;  tout s’inverse. Le cheval (proie) possède une bonne vision nocturne.Le cavalier privé de vision doit lui faire confiance. Le cavalier ressent le sol et perçoit l’environnement à travers le cheval.Les rênes deviennent des cannes d’aveugle…Dans la forêt on éteint les lampes frontales. Galops dans le noir de la forêt sur chemins reconnus la journée.Galopades en plaine au clair de lune.\n					 \n							\n	\n			🕗 Organisation\n		\n								\n								Rendez vous en fin d’après midi 2h30 avant le coucher du soleil. 3 heures en selle.4h30 en tout.\n					 \n				\n				\n							\n	\n			🏷️ Tarifs\n		\n								\n								Occasionnel 74\,00€ / Adhérent 66\,00€\n					 \n				\n				\n							\n	\n			⚠️ Équipement\n		\n								\n								• Prévoir une lampe frontale • Gilet jaune\n					 \n				\n				\n							\n	\n			Réserver une date\n		\n								\n								On vous envoie un sms pour confirmation\n					 \n					    	            \n            Réserver ici\n        \n    				\n				\n							\n	\n			Équipements\, quelques rappels :\n		\n				\n				\n				\n				\n							\n			\n						\n		\n						\n				\n				\n				\n								\n								• Équipez-vous d’une gourde d’eau\, surtout en été !\n					 \n				\n				\n				\n				\n				\n				\n							\n			\n						\n		\n						\n				\n				\n				\n								\n								Équipements\n					 \n								\n								• Prévoir une lampe frontale • Gilet jaune• Pantalon d'équitation ou jean stretch confortable• Chaussures de randonnées (pas de bottes d'équitation)• On vous prête des mini-chaps\n					 \n				\n				\n				\n				\n				\n				\n							\n			\n						\n		\n						\n				\n				\n				\n								\n								Selon la météo :\n					 \n								\n								• Pensez à bien vous habiller chaudement en hiver !\n• Un imperméable s’il pleut\n• Un petit sac pour emballer son téléphone pour le garder au sec
URL:https://www.achevalrandolibre.fr/event/chandeleur/
CATEGORIES:Sorties
ATTACH;FMTTYPE=image/png:https://www.achevalrandolibre.fr/wp-content/uploads/2026/02/Chandeleur.png
END:VEVENT
BEGIN:VEVENT
DTSTART;VALUE=DATE:20260208
DTEND;VALUE=DATE:20260209
DTSTAMP:20260422T110441
CREATED:20260219T143832Z
LAST-MODIFIED:20260402T115420Z
UID:14892-1770508800-1770595199@www.achevalrandolibre.fr
SUMMARY:Au resto à cheval
DESCRIPTION:Retour au calendrier des sorties\n        \n    					\n				\n		\n					\n				\n							\n	\n			Pic-nic couchant\n		\n				\n								\n								Sortie de nuit\n					 \n				\n				\n					\n				\n				\n				\n				\n				\n							\n	\n			Déroulé de la sortie\n		\n							\n	\n			Déroulé de la sortie\n		\n								\n								Une incursion dans l’univers sensoriel des chevaux.Des sensations inoubliables;  tout s’inverse. Le cheval (proie) possède une bonne vision nocturne.Le cavalier privé de vision doit lui faire confiance. Le cavalier ressent le sol et perçoit l’environnement à travers le cheval.Les rênes deviennent des cannes d’aveugle…Dans la forêt on éteint les lampes frontales. Galops dans le noir de la forêt sur chemins reconnus la journée.Galopades en plaine au clair de lune.\n					 \n							\n	\n			🕗 Organisation\n		\n								\n								Rendez vous en fin d’après midi 2h30 avant le coucher du soleil. 3 heures en selle.4h30 en tout.\n					 \n				\n				\n							\n	\n			🏷️ Tarifs\n		\n								\n								Occasionnel 74\,00€ / Adhérent 66\,00€\n					 \n				\n				\n							\n	\n			⚠️ Équipement\n		\n								\n								• Prévoir une lampe frontale • Gilet jaune\n					 \n				\n				\n							\n	\n			Réserver une date\n		\n								\n								On vous envoie un sms pour confirmation\n					 \n					    	            \n            Réserver ici\n        \n    				\n				\n							\n	\n			Équipements\, quelques rappels :\n		\n				\n				\n				\n				\n							\n			\n						\n		\n						\n				\n				\n				\n								\n								• Équipez-vous d’une gourde d’eau\, surtout en été !\n					 \n				\n				\n				\n				\n				\n				\n							\n			\n						\n		\n						\n				\n				\n				\n								\n								Équipements\n					 \n								\n								• Prévoir une lampe frontale • Gilet jaune• Pantalon d'équitation ou jean stretch confortable• Chaussures de randonnées (pas de bottes d'équitation)• On vous prête des mini-chaps\n					 \n				\n				\n				\n				\n				\n				\n							\n			\n						\n		\n						\n				\n				\n				\n								\n								Selon la météo :\n					 \n								\n								• Pensez à bien vous habiller chaudement en hiver !\n• Un imperméable s’il pleut\n• Un petit sac pour emballer son téléphone pour le garder au sec
URL:https://www.achevalrandolibre.fr/event/au-resto-a-cheval/
CATEGORIES:Sorties
ATTACH;FMTTYPE=image/png:https://www.achevalrandolibre.fr/wp-content/uploads/2025/12/Frame-8.png
END:VEVENT
BEGIN:VEVENT
DTSTART;VALUE=DATE:20260214
DTEND;VALUE=DATE:20260215
DTSTAMP:20260422T110441
CREATED:20260219T105636Z
LAST-MODIFIED:20260402T115534Z
UID:14847-1771027200-1771113599@www.achevalrandolibre.fr
SUMMARY:Saint Valentin à cheval
DESCRIPTION:Retour au calendrier des sorties\n        \n    					\n				\n		\n					\n				\n							\n	\n			Pic-nic couchant\n		\n				\n								\n								Sortie de nuit\n					 \n				\n				\n					\n				\n				\n				\n				\n				\n							\n	\n			Déroulé de la sortie\n		\n							\n	\n			Déroulé de la sortie\n		\n								\n								Une incursion dans l’univers sensoriel des chevaux.Des sensations inoubliables;  tout s’inverse. Le cheval (proie) possède une bonne vision nocturne.Le cavalier privé de vision doit lui faire confiance. Le cavalier ressent le sol et perçoit l’environnement à travers le cheval.Les rênes deviennent des cannes d’aveugle…Dans la forêt on éteint les lampes frontales. Galops dans le noir de la forêt sur chemins reconnus la journée.Galopades en plaine au clair de lune.\n					 \n							\n	\n			🕗 Organisation\n		\n								\n								Rendez vous en fin d’après midi 2h30 avant le coucher du soleil. 3 heures en selle.4h30 en tout.\n					 \n				\n				\n							\n	\n			🏷️ Tarifs\n		\n								\n								Occasionnel 74\,00€ / Adhérent 66\,00€\n					 \n				\n				\n							\n	\n			⚠️ Équipement\n		\n								\n								• Prévoir une lampe frontale • Gilet jaune\n					 \n				\n				\n							\n	\n			Réserver une date\n		\n								\n								On vous envoie un sms pour confirmation\n					 \n					    	            \n            Réserver ici\n        \n    				\n				\n							\n	\n			Équipements\, quelques rappels :\n		\n				\n				\n				\n				\n							\n			\n						\n		\n						\n				\n				\n				\n								\n								• Équipez-vous d’une gourde d’eau\, surtout en été !\n					 \n				\n				\n				\n				\n				\n				\n							\n			\n						\n		\n						\n				\n				\n				\n								\n								Équipements\n					 \n								\n								• Prévoir une lampe frontale • Gilet jaune• Pantalon d'équitation ou jean stretch confortable• Chaussures de randonnées (pas de bottes d'équitation)• On vous prête des mini-chaps\n					 \n				\n				\n				\n				\n				\n				\n							\n			\n						\n		\n						\n				\n				\n				\n								\n								Selon la météo :\n					 \n								\n								• Pensez à bien vous habiller chaudement en hiver !\n• Un imperméable s’il pleut\n• Un petit sac pour emballer son téléphone pour le garder au sec
URL:https://www.achevalrandolibre.fr/event/saint-valentin/
CATEGORIES:Sorties
ATTACH;FMTTYPE=image/png:https://www.achevalrandolibre.fr/wp-content/uploads/2026/02/Amour-cheval.png
END:VEVENT
BEGIN:VEVENT
DTSTART;VALUE=DATE:20260222
DTEND;VALUE=DATE:20260223
DTSTAMP:20260422T110441
CREATED:20260219T110919Z
LAST-MODIFIED:20260402T115445Z
UID:14853-1771718400-1771804799@www.achevalrandolibre.fr
SUMMARY:Galopade pour un Kebab
DESCRIPTION:Retour au calendrier des sorties\n        \n    					\n				\n		\n					\n				\n							\n	\n			Pic-nic couchant\n		\n				\n								\n								Sortie de nuit\n					 \n				\n				\n					\n				\n				\n				\n				\n				\n							\n	\n			Déroulé de la sortie\n		\n							\n	\n			Déroulé de la sortie\n		\n								\n								Une incursion dans l’univers sensoriel des chevaux.Des sensations inoubliables;  tout s’inverse. Le cheval (proie) possède une bonne vision nocturne.Le cavalier privé de vision doit lui faire confiance. Le cavalier ressent le sol et perçoit l’environnement à travers le cheval.Les rênes deviennent des cannes d’aveugle…Dans la forêt on éteint les lampes frontales. Galops dans le noir de la forêt sur chemins reconnus la journée.Galopades en plaine au clair de lune.\n					 \n							\n	\n			🕗 Organisation\n		\n								\n								Rendez vous en fin d’après midi 2h30 avant le coucher du soleil. 3 heures en selle.4h30 en tout.\n					 \n				\n				\n							\n	\n			🏷️ Tarifs\n		\n								\n								Occasionnel 74\,00€ / Adhérent 66\,00€\n					 \n				\n				\n							\n	\n			⚠️ Équipement\n		\n								\n								• Prévoir une lampe frontale • Gilet jaune\n					 \n				\n				\n							\n	\n			Réserver une date\n		\n								\n								On vous envoie un sms pour confirmation\n					 \n					    	            \n            Réserver ici\n        \n    				\n				\n							\n	\n			Équipements\, quelques rappels :\n		\n				\n				\n				\n				\n							\n			\n						\n		\n						\n				\n				\n				\n								\n								• Équipez-vous d’une gourde d’eau\, surtout en été !\n					 \n				\n				\n				\n				\n				\n				\n							\n			\n						\n		\n						\n				\n				\n				\n								\n								Équipements\n					 \n								\n								• Prévoir une lampe frontale • Gilet jaune• Pantalon d'équitation ou jean stretch confortable• Chaussures de randonnées (pas de bottes d'équitation)• On vous prête des mini-chaps\n					 \n				\n				\n				\n				\n				\n				\n							\n			\n						\n		\n						\n				\n				\n				\n								\n								Selon la météo :\n					 \n								\n								• Pensez à bien vous habiller chaudement en hiver !\n• Un imperméable s’il pleut\n• Un petit sac pour emballer son téléphone pour le garder au sec
URL:https://www.achevalrandolibre.fr/event/galopade-kebab/
CATEGORIES:Sorties
ATTACH;FMTTYPE=image/png:https://www.achevalrandolibre.fr/wp-content/uploads/2025/12/Kebab.png
END:VEVENT
END:VCALENDAR