BEGIN:VCALENDAR
VERSION:2.0
PRODID:-//A cheval Rando libre - ECPv6.15.20//NONSGML v1.0//EN
CALSCALE:GREGORIAN
METHOD:PUBLISH
X-ORIGINAL-URL:https://www.achevalrandolibre.fr
X-WR-CALDESC:Évènements pour A cheval Rando libre
REFRESH-INTERVAL;VALUE=DURATION:PT1H
X-Robots-Tag:noindex
X-PUBLISHED-TTL:PT1H
BEGIN:VTIMEZONE
TZID:Europe/Paris
BEGIN:DAYLIGHT
TZOFFSETFROM:+0100
TZOFFSETTO:+0200
TZNAME:CEST
DTSTART:20250330T010000
END:DAYLIGHT
BEGIN:STANDARD
TZOFFSETFROM:+0200
TZOFFSETTO:+0100
TZNAME:CET
DTSTART:20251026T010000
END:STANDARD
BEGIN:DAYLIGHT
TZOFFSETFROM:+0100
TZOFFSETTO:+0200
TZNAME:CEST
DTSTART:20260329T010000
END:DAYLIGHT
BEGIN:STANDARD
TZOFFSETFROM:+0200
TZOFFSETTO:+0100
TZNAME:CET
DTSTART:20261025T010000
END:STANDARD
BEGIN:DAYLIGHT
TZOFFSETFROM:+0100
TZOFFSETTO:+0200
TZNAME:CEST
DTSTART:20270328T010000
END:DAYLIGHT
BEGIN:STANDARD
TZOFFSETFROM:+0200
TZOFFSETTO:+0100
TZNAME:CET
DTSTART:20271031T010000
END:STANDARD
END:VTIMEZONE
BEGIN:VEVENT
DTSTART;VALUE=DATE:20260308
DTEND;VALUE=DATE:20260309
DTSTAMP:20260420T082825
CREATED:20260219T081226Z
LAST-MODIFIED:20260402T115233Z
UID:14775-1772928000-1773014399@www.achevalrandolibre.fr
SUMMARY:Forteresse de Berzé - Escapade
DESCRIPTION:Retour au calendrier des sorties\n        \n    					\n				\n		\n					\n				\n							\n	\n			Beaujolais Nouveau\n		\n				\n								\n								Escapade\n					 \n				\n				\n					\n				\n				\n				\n				\n				\n				\n				\n									Escapade de nuit ⭐🕗 Durée totaleRetour prévu aux alentours de minuit OrganisationRDVRendez vous avec les chevaux à 19h00  aux environs de Frontenas Ce qui vous attendChevauchée nocturne (-+25 km)\, retour au camion vers minuitRythme soutenu\, cavaliers galop 4 ⚠️ TarifsNuit• Nuit du 20 : occ 100€ – adh 90€• Dégustation festive chez un viticulteur repas du terroir (22€) 								\n				\n				\n				\n				\n				\n									Escapade à la journée ☀️🕗 Durée totaleEscapade à la journée samedi 22 novembre ou dimanche 23 novembre OrganisationRDVRendez vous avec les chevaux à 9h00 aux environs de Frontenas Ce qui vous attendEscapade dans le Beaujolais avec dégustation et repas festifchez un viticulteur (22€) TarifsJour• Jour 22 ou 23 : occ 110€- adh 100€• Dégustation festive chez un viticulteur repas du terroir (22€) 								\n				\n				\n				\n							\n	\n			Réserver une date\n		\n								\n								On vous envoie un sms pour confirmation\n					 \n					    	            \n            Réserver ici\n        \n    				\n				\n							\n	\n			Équipements\, quelques rappels :\n		\n				\n				\n				\n				\n							\n			\n						\n		\n						\n				\n				\n				\n								\n								• Équipez-vous d’une gourde d’eau\, surtout en été !\n					 \n				\n				\n				\n				\n				\n				\n							\n			\n						\n		\n						\n				\n				\n				\n								\n								Équipements\n					 \n				\n				\n									• Pantalon d’équitation ou jean stretch confortable• Chaussures de randonnées (pas de bottes d’équitation)• On vous prête des mini-chaps• Gilet jaune et lampe frontale pour la sortie de nuit ! 								\n				\n				\n				\n				\n				\n				\n				\n							\n			\n						\n		\n						\n				\n				\n				\n								\n								Selon la météo :\n					 \n				\n				\n									• Pensez à bien vous habiller chaudement en hiver !• Un imperméable s’il pleut• Un petit sac pour emballer son téléphone pour le garder au sec 								\n				\n				\n				\n				\n								\n								\n\n\n					 \n				\n		\n					\n				\n				\n																														\n				\n								\n							\n						@ Instagram Foutras
URL:https://www.achevalrandolibre.fr/event/escapade-forteresse-berze/
CATEGORIES:Escapades
ATTACH;FMTTYPE=image/png:https://www.achevalrandolibre.fr/wp-content/uploads/2026/02/Vignette-berze.png
END:VEVENT
BEGIN:VEVENT
DTSTART;VALUE=DATE:20260321
DTEND;VALUE=DATE:20260322
DTSTAMP:20260420T082825
CREATED:20260219T082109Z
LAST-MODIFIED:20260402T115305Z
UID:14772-1774051200-1774137599@www.achevalrandolibre.fr
SUMMARY:Galop au val de Saône
DESCRIPTION:Retour au calendrier des sorties\n        \n    					\n				\n		\n					\n				\n							\n	\n			Beaujolais Nouveau\n		\n				\n								\n								Escapade\n					 \n				\n				\n					\n				\n				\n				\n				\n				\n				\n				\n									Escapade de nuit ⭐🕗 Durée totaleRetour prévu aux alentours de minuit OrganisationRDVRendez vous avec les chevaux à 19h00  aux environs de Frontenas Ce qui vous attendChevauchée nocturne (-+25 km)\, retour au camion vers minuitRythme soutenu\, cavaliers galop 4 ⚠️ TarifsNuit• Nuit du 20 : occ 100€ – adh 90€• Dégustation festive chez un viticulteur repas du terroir (22€) 								\n				\n				\n				\n				\n				\n									Escapade à la journée ☀️🕗 Durée totaleEscapade à la journée samedi 22 novembre ou dimanche 23 novembre OrganisationRDVRendez vous avec les chevaux à 9h00 aux environs de Frontenas Ce qui vous attendEscapade dans le Beaujolais avec dégustation et repas festifchez un viticulteur (22€) TarifsJour• Jour 22 ou 23 : occ 110€- adh 100€• Dégustation festive chez un viticulteur repas du terroir (22€) 								\n				\n				\n				\n							\n	\n			Réserver une date\n		\n								\n								On vous envoie un sms pour confirmation\n					 \n					    	            \n            Réserver ici\n        \n    				\n				\n							\n	\n			Équipements\, quelques rappels :\n		\n				\n				\n				\n				\n							\n			\n						\n		\n						\n				\n				\n				\n								\n								• Équipez-vous d’une gourde d’eau\, surtout en été !\n					 \n				\n				\n				\n				\n				\n				\n							\n			\n						\n		\n						\n				\n				\n				\n								\n								Équipements\n					 \n				\n				\n									• Pantalon d’équitation ou jean stretch confortable• Chaussures de randonnées (pas de bottes d’équitation)• On vous prête des mini-chaps• Gilet jaune et lampe frontale pour la sortie de nuit ! 								\n				\n				\n				\n				\n				\n				\n				\n							\n			\n						\n		\n						\n				\n				\n				\n								\n								Selon la météo :\n					 \n				\n				\n									• Pensez à bien vous habiller chaudement en hiver !• Un imperméable s’il pleut• Un petit sac pour emballer son téléphone pour le garder au sec 								\n				\n				\n				\n				\n								\n								\n\n\n					 \n				\n		\n					\n				\n				\n																														\n				\n								\n							\n						@ Instagram Foutras
URL:https://www.achevalrandolibre.fr/event/galop-val-de-saone/
CATEGORIES:Escapades
ATTACH;FMTTYPE=image/png:https://www.achevalrandolibre.fr/wp-content/uploads/2026/02/Vignette-val-saone.png
END:VEVENT
END:VCALENDAR